BEGIN:VCALENDAR
VERSION:2.0
PRODID:-//Sabre//Sabre VObject 4.5.8//EN
CALSCALE:GREGORIAN
BEGIN:VEVENT
UID:sabre-vobject-2a93a9bd-65d6-40cf-9410-753317c5d2d2
DTSTAMP:20260421T062625Z
SUMMARY:Viktor Scheck
DESCRIPTION:https://neuburg.com/veranstaltungen/viktor-scheck_id25514
DTSTART;TZID=Europe/Berlin:20230317T170000
DTEND;TZID=Europe/Berlin:20230317T190000
LOCATION:Städtische Galerie im Rathausfletz\, Karlsplatz A 12\, 86633 Neub
 urg an der Donau
END:VEVENT
END:VCALENDAR
