BEGIN:VCALENDAR
VERSION:2.0
PRODID:-//Sabre//Sabre VObject 4.5.8//EN
CALSCALE:GREGORIAN
BEGIN:VEVENT
UID:sabre-vobject-acc99557-9900-4b70-a327-b559352ce9ca
DTSTAMP:20260421T062558Z
SUMMARY:Tierfotografien
DESCRIPTION:https://neuburg.com/veranstaltungen/tierfotografien_id25319
DTSTART;TZID=Europe/Berlin:20230318T093000
DTEND;TZID=Europe/Berlin:20230318T120000
LOCATION:Stadtbücherei im Bücherturm\, Sèter Platz 1\, 86633 Neuburg an 
 der Donau
END:VEVENT
END:VCALENDAR
