BEGIN:VCALENDAR
VERSION:2.0
PRODID:-//Sabre//Sabre VObject 4.5.8//EN
CALSCALE:GREGORIAN
BEGIN:VEVENT
UID:sabre-vobject-9a3bb3d9-e2b2-4ec4-bf10-ee64b3022ca7
DTSTAMP:20260421T062748Z
SUMMARY:Tierfotografien
DESCRIPTION:https://neuburg.com/veranstaltungen/tierfotografien_id25303
DTSTART;TZID=Europe/Berlin:20230317T093000
DTEND;TZID=Europe/Berlin:20230317T180000
LOCATION:Stadtbücherei im Bücherturm\, Sèter Platz 1\, 86633 Neuburg an 
 der Donau
END:VEVENT
END:VCALENDAR
