BEGIN:VCALENDAR
VERSION:2.0
PRODID:-//Sabre//Sabre VObject 4.5.8//EN
CALSCALE:GREGORIAN
BEGIN:VEVENT
UID:sabre-vobject-23315824-c93a-467b-992c-f35493a763a6
DTSTAMP:20260421T062557Z
SUMMARY:Frühjahrsausstellung "Zweifarbig"
DESCRIPTION:https://neuburg.com/veranstaltungen/fruehjahrsausstellung-zweif
 arbig_id25236
DTSTART;TZID=Europe/Berlin:20230319T110000
DTEND;TZID=Europe/Berlin:20230319T190000
LOCATION:Städtische Galerie im Fürstengang\, Amalienstraße\, 86633 Neubu
 rg an der Donau
END:VEVENT
END:VCALENDAR
