BEGIN:VCALENDAR
VERSION:2.0
PRODID:-//Sabre//Sabre VObject 4.5.8//EN
CALSCALE:GREGORIAN
BEGIN:VEVENT
UID:sabre-vobject-92bb3760-cbe6-4b0e-a947-910d41118224
DTSTAMP:20260421T062425Z
SUMMARY:Frühjahrsausstellung "Zweifarbig"
DESCRIPTION:https://neuburg.com/veranstaltungen/fruehjahrsausstellung-zweif
 arbig_id25232
DTSTART;TZID=Europe/Berlin:20230318T110000
DTEND;TZID=Europe/Berlin:20230318T190000
LOCATION:Städtische Galerie im Fürstengang\, Amalienstraße\, 86633 Neubu
 rg an der Donau
END:VEVENT
END:VCALENDAR
