BEGIN:VCALENDAR
VERSION:2.0
PRODID:-//Sabre//Sabre VObject 4.5.8//EN
CALSCALE:GREGORIAN
BEGIN:VEVENT
UID:sabre-vobject-753eb5bc-694c-4a09-865b-a5b5ef9b6ef2
DTSTAMP:20260421T062640Z
SUMMARY:Frühjahrsausstellung "Zweifarbig"
DESCRIPTION:https://neuburg.com/veranstaltungen/fruehjahrsausstellung-zweif
 arbig_id25225
DTSTART;TZID=Europe/Berlin:20230317T190000
DTEND;TZID=Europe/Berlin:20230317T203000
LOCATION:Städtische Galerie im Fürstengang\, Amalienstraße\, 86633 Neubu
 rg an der Donau
END:VEVENT
END:VCALENDAR
