BEGIN:VCALENDAR
VERSION:2.0
PRODID:-//Sabre//Sabre VObject 4.5.8//EN
CALSCALE:GREGORIAN
BEGIN:VEVENT
UID:sabre-vobject-bb8cea1f-0087-402c-9d10-a043c536e275
DTSTAMP:20260421T062641Z
SUMMARY:Küchenbrigade
DESCRIPTION:https://neuburg.com/veranstaltungen/kuechenbrigade_id25158
DTSTART;TZID=Europe/Berlin:20230320T150000
DURATION:PT30M
LOCATION:Kinopalast Neuburg\, Längenmühlweg 57\, 86633 Neuburg an der Don
 au
END:VEVENT
END:VCALENDAR
