BEGIN:VCALENDAR
VERSION:2.0
PRODID:-//Sabre//Sabre VObject 4.5.8//EN
CALSCALE:GREGORIAN
BEGIN:VEVENT
UID:sabre-vobject-4824ae6d-2da4-4109-a93c-56be2a8d662c
DTSTAMP:20260424T163218Z
SUMMARY:Mittagsstunde
DESCRIPTION:https://neuburg.com/veranstaltungen/mittagsstunde_id25151
DTSTART;TZID=Europe/Berlin:20221219T150000
DURATION:PT30M
LOCATION:Kinopalast Neuburg\, Längenmühlweg 57\, 86633 Neuburg an der Don
 au
END:VEVENT
END:VCALENDAR
