BEGIN:VCALENDAR
VERSION:2.0
PRODID:-//Sabre//Sabre VObject 4.5.8//EN
CALSCALE:GREGORIAN
BEGIN:VEVENT
UID:sabre-vobject-66f2f4ff-929f-4b09-b14a-eb61264e6f0b
DTSTAMP:20260424T163308Z
SUMMARY:Der Stern
DESCRIPTION:https://neuburg.com/veranstaltungen/der-stern_id25144
DTSTART;TZID=Europe/Berlin:20221218T160000
DTEND;TZID=Europe/Berlin:20221218T165000
LOCATION:Neuburger Marionettentheater\, Amalienstraße 8\, 86633 Neuburg an
  der Donau
END:VEVENT
END:VCALENDAR
