BEGIN:VCALENDAR
VERSION:2.0
PRODID:-//Sabre//Sabre VObject 4.5.8//EN
CALSCALE:GREGORIAN
BEGIN:VEVENT
UID:sabre-vobject-ff88cc0e-d6e4-4abd-a119-849217572c14
DTSTAMP:20260421T062629Z
SUMMARY:Pentland – Nay Quartet
DESCRIPTION:https://neuburg.com/veranstaltungen/pentland-nay-quartet_id2513
 8
DTSTART;TZID=Europe/Berlin:20230317T203000
DURATION:PT30M
LOCATION:Birdland Jazz Club e. V.\, Am Karlsplatz A 52\, 86633 Neuburg an d
 er Donau
END:VEVENT
END:VCALENDAR
