BEGIN:VCALENDAR
VERSION:2.0
PRODID:-//Sabre//Sabre VObject 4.5.8//EN
CALSCALE:GREGORIAN
BEGIN:VEVENT
UID:sabre-vobject-a0d8685b-0f51-4c3d-8c35-3b3662782d54
DTSTAMP:20260421T062631Z
SUMMARY:Ensemble del Arte
DESCRIPTION:https://neuburg.com/veranstaltungen/ensemble-del-arte_id25102
DTSTART;TZID=Europe/Berlin:20230318T200000
DURATION:PT30M
LOCATION:Kongregationssaal\, Jacob-Balde-Platz\, 86633 Neuburg an der Donau
END:VEVENT
END:VCALENDAR
