BEGIN:VCALENDAR
VERSION:2.0
PRODID:-//Sabre//Sabre VObject 4.5.8//EN
CALSCALE:GREGORIAN
BEGIN:VEVENT
UID:sabre-vobject-42ea57d1-6d7a-4957-92de-ce172f6bbdd4
DTSTAMP:20260424T161412Z
SUMMARY:Motown goes Christmas
DESCRIPTION:https://neuburg.com/veranstaltungen/motown-goes-christmas_id249
 80
DTSTART;TZID=Europe/Berlin:20221220T200000
DURATION:PT30M
LOCATION:Stadttheater\, Residenzstraße A67\, 86633 Neuburg an der Donau
END:VEVENT
END:VCALENDAR
