BEGIN:VCALENDAR
VERSION:2.0
PRODID:-//Sabre//Sabre VObject 4.5.8//EN
CALSCALE:GREGORIAN
BEGIN:VEVENT
UID:sabre-vobject-058f2ad9-9a78-4a2c-aebf-c1dff8ec9465
DTSTAMP:20260424T162409Z
SUMMARY:Kaiser\, Könige\, Herzöge
DESCRIPTION:https://neuburg.com/veranstaltungen/kaiser-koenige-herzoege_id2
 4973
DTSTART;TZID=Europe/Berlin:20221224T100000
DTEND;TZID=Europe/Berlin:20221224T180000
LOCATION:Stadtmuseum Neuburg an der Donau\, Amalienstraße  19\, 86633 Neub
 urg an der Donau
END:VEVENT
END:VCALENDAR
