BEGIN:VCALENDAR
VERSION:2.0
PRODID:-//Sabre//Sabre VObject 4.5.8//EN
CALSCALE:GREGORIAN
BEGIN:VEVENT
UID:sabre-vobject-d768f2f1-d846-4582-8b23-d45731e9ea77
DTSTAMP:20260424T162414Z
SUMMARY:Kaiser\, Könige\, Herzöge
DESCRIPTION:https://neuburg.com/veranstaltungen/kaiser-koenige-herzoege_id2
 4963
DTSTART;TZID=Europe/Berlin:20221222T100000
DTEND;TZID=Europe/Berlin:20221222T180000
LOCATION:Stadtmuseum Neuburg an der Donau\, Amalienstraße  19\, 86633 Neub
 urg an der Donau
END:VEVENT
END:VCALENDAR
