BEGIN:VCALENDAR
VERSION:2.0
PRODID:-//Sabre//Sabre VObject 4.5.8//EN
CALSCALE:GREGORIAN
BEGIN:VEVENT
UID:sabre-vobject-4b968c84-bd70-4647-bdf8-ca1b18438e3a
DTSTAMP:20260424T161457Z
SUMMARY:Kaiser\, Könige\, Herzöge
DESCRIPTION:https://neuburg.com/veranstaltungen/kaiser-koenige-herzoege_id2
 4958
DTSTART;TZID=Europe/Berlin:20221221T100000
DTEND;TZID=Europe/Berlin:20221221T180000
LOCATION:Stadtmuseum Neuburg an der Donau\, Amalienstraße  19\, 86633 Neub
 urg an der Donau
END:VEVENT
END:VCALENDAR
