BEGIN:VCALENDAR
VERSION:2.0
PRODID:-//Sabre//Sabre VObject 4.5.8//EN
CALSCALE:GREGORIAN
BEGIN:VEVENT
UID:sabre-vobject-da7ef56e-8199-40ae-a9c5-7703a73ce1a4
DTSTAMP:20260424T161456Z
SUMMARY:Kaiser\, Könige\, Herzöge
DESCRIPTION:https://neuburg.com/veranstaltungen/kaiser-koenige-herzoege_id2
 4953
DTSTART;TZID=Europe/Berlin:20221220T100000
DTEND;TZID=Europe/Berlin:20221220T180000
LOCATION:Stadtmuseum Neuburg an der Donau\, Amalienstraße  19\, 86633 Neub
 urg an der Donau
END:VEVENT
END:VCALENDAR
