BEGIN:VCALENDAR
VERSION:2.0
PRODID:-//Sabre//Sabre VObject 4.5.8//EN
CALSCALE:GREGORIAN
BEGIN:VEVENT
UID:sabre-vobject-7cd8ffa7-7ef6-4779-8e0f-4ab57f6e0144
DTSTAMP:20260424T161413Z
SUMMARY:Wochenmarkt
DESCRIPTION:https://neuburg.com/veranstaltungen/wochenmarkt_id24940
DTSTART;TZID=Europe/Berlin:20221221T063000
DTEND;TZID=Europe/Berlin:20221221T123000
LOCATION:Schrannenplatz\, Schrannenplatz\, 86633 Neuburg an der Donau
END:VEVENT
END:VCALENDAR
