BEGIN:VCALENDAR
VERSION:2.0
PRODID:-//Sabre//Sabre VObject 4.5.8//EN
CALSCALE:GREGORIAN
BEGIN:VEVENT
UID:sabre-vobject-0fd7fce3-c270-4be9-9db6-f4bbe9d6af24
DTSTAMP:20260424T161414Z
SUMMARY:Tosca
DESCRIPTION:https://neuburg.com/veranstaltungen/tosca_id24907
DTSTART;TZID=Europe/Berlin:20221218T190000
DURATION:PT30M
LOCATION:Evangelisch-Lutherisches Pfarramt Christuskirche\, Am Graben B 173
  ½\, 86633  Neuburg an der Donau
END:VEVENT
END:VCALENDAR
