BEGIN:VCALENDAR
VERSION:2.0
PRODID:-//Sabre//Sabre VObject 4.5.8//EN
CALSCALE:GREGORIAN
BEGIN:VEVENT
UID:sabre-vobject-ad30b8e8-4571-4f57-8195-b5620a9ff631
DTSTAMP:20260424T180131Z
SUMMARY:Schwäbische Hallenmeisterschaft der Frauen
DESCRIPTION:https://neuburg.com/veranstaltungen/schwaebische-hallenmeisters
 chaft-der-frauen_id21369
DTSTART;TZID=Europe/Berlin:20221218T080000
DURATION:PT30M
LOCATION:Mehrfachturnhalle Ostend\, Berliner Straße 162\, 86633 Neuburg an
  der Donau
END:VEVENT
END:VCALENDAR
