BEGIN:VCALENDAR
VERSION:2.0
PRODID:-//Sabre//Sabre VObject 4.5.8//EN
CALSCALE:GREGORIAN
BEGIN:VEVENT
UID:sabre-vobject-487a79d8-cb8b-4fa6-86b6-ea93c26809d1
DTSTAMP:20260424T161455Z
SUMMARY:Nachhaltigkeit im Bauwesen
DESCRIPTION:https://neuburg.com/veranstaltungen/nachhaltigkeit-im-bauwesen_
 id21288
DTSTART;TZID=Europe/Berlin:20221220T181500
DTEND;TZID=Europe/Berlin:20221220T190000
LOCATION:Campus Neuburg\, An der Hochschule B 1\, 86633 Neuburg
END:VEVENT
END:VCALENDAR
