BEGIN:VCALENDAR
VERSION:2.0
PRODID:-//Sabre//Sabre VObject 4.5.8//EN
CALSCALE:GREGORIAN
BEGIN:VEVENT
UID:sabre-vobject-317fb806-a150-4687-b282-4e5658f4c5f2
DTSTAMP:20260424T215407Z
SUMMARY:Wichtel-Werkstatt
DESCRIPTION:https://neuburg.com/veranstaltungen/wichtel-werkstatt_id21280
DTSTART;TZID=Europe/Berlin:20221217T090000
DTEND;TZID=Europe/Berlin:20221217T130000
LOCATION:das Otto\, Schmidstraße C113\, 86633  Neuburg
END:VEVENT
END:VCALENDAR
