BEGIN:VCALENDAR
VERSION:2.0
PRODID:-//Sabre//Sabre VObject 4.5.8//EN
CALSCALE:GREGORIAN
BEGIN:VEVENT
UID:sabre-vobject-8511a4fb-d983-4a4f-aee4-59c7315eef9a
DTSTAMP:20260424T195609Z
SUMMARY:Winzer-Glühwein Station an allen Adventssamstagen
DESCRIPTION:https://neuburg.com/veranstaltungen/winzer-gluehwein-station-an
 -allen-adventssamstagen_id21278
DTSTART;TZID=Europe/Berlin:20221217T133000
DTEND;TZID=Europe/Berlin:20221217T180000
LOCATION:Weinparadiso\, Oswaldplatz 2\, 86633  Neuburg an der Donau
END:VEVENT
END:VCALENDAR
