BEGIN:VCALENDAR
VERSION:2.0
PRODID:-//Sabre//Sabre VObject 4.5.8//EN
CALSCALE:GREGORIAN
BEGIN:VEVENT
UID:sabre-vobject-a9c05577-7f5a-4fbe-bd7d-a4442acbccaa
DTSTAMP:20260424T233749Z
SUMMARY:Ottheinrich im Oktober
DESCRIPTION:https://neuburg.com/veranstaltungen/ottheinrich-im-oktober_id20
 752
DTSTART;TZID=Europe/Berlin:20221216T180000
DURATION:PT30M
LOCATION:Stadtmuseum Neuburg (Weveldhaus)\, Amalienstraße A 19\, 86633 Neu
 burg a. d. Donau
END:VEVENT
END:VCALENDAR
