BEGIN:VCALENDAR
VERSION:2.0
PRODID:-//Sabre//Sabre VObject 4.5.8//EN
CALSCALE:GREGORIAN
BEGIN:VEVENT
UID:sabre-vobject-84225e38-cada-45b8-82f1-5f227a51bc4f
DTSTAMP:20260425T030450Z
SUMMARY:Als der Weihnachtsmann vom Himmel fiel
DESCRIPTION:https://neuburg.com/veranstaltungen/als-der-weihnachtsmann-vom-
 himmel-fiel_id20713
DTSTART;TZID=Europe/Berlin:20221214T150000
DURATION:PT30M
LOCATION:Stadttheater Neuburg\, Ottheinrichplatz\, 86633 Neuburg an der Don
 au
END:VEVENT
END:VCALENDAR
