BEGIN:VCALENDAR
VERSION:2.0
PRODID:-//Sabre//Sabre VObject 4.5.8//EN
CALSCALE:GREGORIAN
BEGIN:VEVENT
UID:sabre-vobject-e4f0e1da-7e76-41bb-90ab-997c215adcc6
DTSTAMP:20260424T161456Z
SUMMARY:Motown goes Christmas
DESCRIPTION:https://neuburg.com/veranstaltungen/motown-goes-christmas_id207
 04
DTSTART;TZID=Europe/Berlin:20221220T000000
DURATION:PT30M
LOCATION:Stadttheater Neuburg\, Ottheinrichplatz\, 86633 Neuburg an der Don
 au
END:VEVENT
END:VCALENDAR
