BEGIN:VCALENDAR
VERSION:2.0
PRODID:-//Sabre//Sabre VObject 4.5.8//EN
CALSCALE:GREGORIAN
BEGIN:VEVENT
UID:sabre-vobject-98ded3aa-05de-4b44-aaa1-d6e794fd75a8
DTSTAMP:20260424T161457Z
SUMMARY:Motown goes Christmas
DESCRIPTION:https://neuburg.com/veranstaltungen/motown-goes-christmas_id207
 03
DTSTART;TZID=Europe/Berlin:20221219T200000
DURATION:PT30M
LOCATION:Stadttheater Neuburg\, Ottheinrichplatz\, 86633 Neuburg an der Don
 au
END:VEVENT
END:VCALENDAR
