BEGIN:VCALENDAR
VERSION:2.0
PRODID:-//Sabre//Sabre VObject 4.5.8//EN
CALSCALE:GREGORIAN
BEGIN:VEVENT
UID:sabre-vobject-dc233a39-b3e5-471d-ba20-aff65a3ffd39
DTSTAMP:20260424T163218Z
SUMMARY:Mit dem Nachtwächter
DESCRIPTION:https://neuburg.com/veranstaltungen/mit-dem-nachtwaechter_id189
 89
DTSTART;TZID=Europe/Berlin:20221227T000000
DTEND;TZID=Europe/Berlin:20221231T000000
LOCATION:Tourist-Information\, Ottheinrichplatz A 118\, 86633 Neuburg
END:VEVENT
END:VCALENDAR
