BEGIN:VCALENDAR
VERSION:2.0
PRODID:-//Sabre//Sabre VObject 4.5.8//EN
CALSCALE:GREGORIAN
BEGIN:VEVENT
UID:sabre-vobject-43d27457-71ed-4614-b00c-1b64f5441957
DTSTAMP:20260424T182800Z
SUMMARY:Unterwegs in der Altstadt
DESCRIPTION:https://neuburg.com/veranstaltungen/unterwegs-in-der-altstadt_i
 d18987
DTSTART;TZID=Europe/Berlin:20221227T000000
DTEND;TZID=Europe/Berlin:20221231T000000
LOCATION:Tourist-Information\, Ottheinrichplatz A 118\, 86633 Neuburg
END:VEVENT
END:VCALENDAR
