BEGIN:VCALENDAR
VERSION:2.0
PRODID:-//Sabre//Sabre VObject 4.5.8//EN
CALSCALE:GREGORIAN
BEGIN:VEVENT
UID:sabre-vobject-c62e862e-131e-4962-a493-5221cf9db3d7
DTSTAMP:20260421T090829Z
SUMMARY:Beethoven- und Orff-Programm
DESCRIPTION:https://neuburg.com/veranstaltungen/beethoven-und-orff-programm
 _id17053
DTSTART;TZID=Europe/Berlin:20211217T200000
DURATION:PT30M
LOCATION:Stadttheater Neuburg\, Ottheinrichplatz\, 86633 Neuburg an der Don
 au
END:VEVENT
END:VCALENDAR
