BEGIN:VCALENDAR
VERSION:2.0
PRODID:-//Sabre//Sabre VObject 4.5.8//EN
CALSCALE:GREGORIAN
BEGIN:VEVENT
UID:sabre-vobject-706bd208-7261-4106-8441-c54b00168be5
DTSTAMP:20260421T090701Z
SUMMARY:Peer Gynt
DESCRIPTION:https://neuburg.com/veranstaltungen/peer-gynt_id17047
DTSTART;TZID=Europe/Berlin:20211202T190000
DURATION:PT30M
LOCATION:Stadttheater\, Residenzstraße 66\, 86633 Neuburg
END:VEVENT
END:VCALENDAR
