BEGIN:VCALENDAR
VERSION:2.0
PRODID:-//Sabre//Sabre VObject 4.5.8//EN
CALSCALE:GREGORIAN
BEGIN:VEVENT
UID:sabre-vobject-ea01e5a3-295a-4b37-b16e-c1ae85d56db2
DTSTAMP:20260423T060245Z
SUMMARY:Ausstellung "Farbe Pur"
DESCRIPTION:https://neuburg.com/veranstaltungen/ausstellung-farbe-pur_id141
 76
DTSTART;TZID=Europe/Berlin:20210319T150000
DTEND;TZID=Europe/Berlin:20210405T190000
LOCATION:Städtische Galerie im Fürstengang 
END:VEVENT
END:VCALENDAR
